BEGIN:VCALENDAR
VERSION:2.0
PRODID:-//ChamberMaster//Event Calendar 2.0//EN
METHOD:PUBLISH
X-PUBLISHED-TTL:P3D
REFRESH-INTERVAL:P3D
CALSCALE:GREGORIAN
BEGIN:VEVENT
DTSTART;VALUE=DATE:20101020
DTEND;VALUE=DATE:20101021
TRANSP:TRANSPARENT
X-MICROSOFT-CDO-ALLDAYEVENT:TRUE
SUMMARY:Lead Training
DESCRIPTION:Lead Training at Best Western Midway on Rose Street La Crosse 8 am to 4 pm Members $225\, Non-members $260
X-ALT-DESC;FMTTYPE=text/html:<p>Lead Training at Best Western Midway on Rose Street La Crosse</p> <p>8 am to 4 pm</p> <p>Members $225\, Non-members $260</p>
LOCATION:816 Second Avenue South Onalaska\, WI 54650
UID:e.9477.432
SEQUENCE:3
DTSTAMP:20260423T052705Z
URL:http://labaonline.memberzone.com/events/details/lead-training-10-20-2010-432
END:VEVENT

END:VCALENDAR
