BEGIN:VCALENDAR
VERSION:2.0
PRODID:-//ChamberMaster//Event Calendar 2.0//EN
METHOD:PUBLISH
X-PUBLISHED-TTL:P3D
REFRESH-INTERVAL:P3D
CALSCALE:GREGORIAN
BEGIN:VEVENT
DTSTART;VALUE=DATE:20110303
DTEND;VALUE=DATE:20110304
TRANSP:TRANSPARENT
X-MICROSOFT-CDO-ALLDAYEVENT:TRUE
SUMMARY:Lead Training
DESCRIPTION:
X-ALT-DESC;FMTTYPE=text/html:
LOCATION:1052 Oak Forest Dr. Onalaska\, WI 54650
UID:e.9477.439
SEQUENCE:3
DTSTAMP:20260422T171032Z
URL:http://labaonline.memberzone.com/events/details/lead-training-03-03-2011-439
END:VEVENT

END:VCALENDAR
